BEGIN:VCALENDAR
VERSION:2.0
PRODID:-//AAHPM - ECPv6.15.20//NONSGML v1.0//EN
CALSCALE:GREGORIAN
METHOD:PUBLISH
X-WR-CALNAME:AAHPM
X-ORIGINAL-URL:https://aahpm.org
X-WR-CALDESC:Events for AAHPM
REFRESH-INTERVAL;VALUE=DURATION:PT1H
X-Robots-Tag:noindex
X-PUBLISHED-TTL:PT1H
BEGIN:VTIMEZONE
TZID:America/Chicago
BEGIN:DAYLIGHT
TZOFFSETFROM:-0600
TZOFFSETTO:-0500
TZNAME:CDT
DTSTART:20240310T080000
END:DAYLIGHT
BEGIN:STANDARD
TZOFFSETFROM:-0500
TZOFFSETTO:-0600
TZNAME:CST
DTSTART:20241103T070000
END:STANDARD
BEGIN:DAYLIGHT
TZOFFSETFROM:-0600
TZOFFSETTO:-0500
TZNAME:CDT
DTSTART:20250309T080000
END:DAYLIGHT
BEGIN:STANDARD
TZOFFSETFROM:-0500
TZOFFSETTO:-0600
TZNAME:CST
DTSTART:20251102T070000
END:STANDARD
BEGIN:DAYLIGHT
TZOFFSETFROM:-0600
TZOFFSETTO:-0500
TZNAME:CDT
DTSTART:20260308T080000
END:DAYLIGHT
BEGIN:STANDARD
TZOFFSETFROM:-0500
TZOFFSETTO:-0600
TZNAME:CST
DTSTART:20261101T070000
END:STANDARD
BEGIN:DAYLIGHT
TZOFFSETFROM:-0600
TZOFFSETTO:-0500
TZNAME:CDT
DTSTART:20270314T080000
END:DAYLIGHT
BEGIN:STANDARD
TZOFFSETFROM:-0500
TZOFFSETTO:-0600
TZNAME:CST
DTSTART:20271107T070000
END:STANDARD
END:VTIMEZONE
BEGIN:VTIMEZONE
TZID:UTC
BEGIN:STANDARD
TZOFFSETFROM:+0000
TZOFFSETTO:+0000
TZNAME:UTC
DTSTART:20240101T000000
END:STANDARD
END:VTIMEZONE
BEGIN:VEVENT
DTSTART;TZID=America/Chicago:20260415T130000
DTEND;TZID=America/Chicago:20260415T140000
DTSTAMP:20260422T050538
CREATED:20250715T014758Z
LAST-MODIFIED:20250929T162158Z
UID:11194-1776258000-1776261600@aahpm.org
SUMMARY:Pediatric Council Journal Club
DESCRIPTION:Sorry\, but you do not have permission to view this content.
URL:https://aahpm.org/education-events-calendar/pediatric-council-journal-club-4/
CATEGORIES:Community Meetings,Members Only
ATTACH;FMTTYPE=image/png:https://aahpm.org/wp-content/uploads/2025/07/Journal-Club.png
END:VEVENT
BEGIN:VEVENT
DTSTART;TZID=America/Chicago:20260218T130000
DTEND;TZID=America/Chicago:20260218T140000
DTSTAMP:20260422T050538
CREATED:20250715T020623Z
LAST-MODIFIED:20250929T162231Z
UID:11196-1771419600-1771423200@aahpm.org
SUMMARY:Pediatric Council Journal Club
DESCRIPTION:Sorry\, but you do not have permission to view this content.
URL:https://aahpm.org/education-events-calendar/pediatric-council-journal-club-5/
CATEGORIES:Community Meetings,Members Only
ATTACH;FMTTYPE=image/png:https://aahpm.org/wp-content/uploads/2025/07/Journal-Club.png
END:VEVENT
BEGIN:VEVENT
DTSTART;TZID=America/Chicago:20260115T140000
DTEND;TZID=America/Chicago:20260115T150000
DTSTAMP:20260422T050538
CREATED:20250715T021638Z
LAST-MODIFIED:20250929T162239Z
UID:11197-1768485600-1768489200@aahpm.org
SUMMARY:Telehealth & Technology Forum Meeting
DESCRIPTION:Sorry\, but you do not have permission to view this content.
URL:https://aahpm.org/education-events-calendar/telehealth-technology-forum-meeting-8/
CATEGORIES:Community Meetings,Members Only
ATTACH;FMTTYPE=image/png:https://aahpm.org/wp-content/uploads/2024/07/Community-Meetings_Website-1.png
END:VEVENT
BEGIN:VEVENT
DTSTART;TZID=UTC:20251218T140000
DTEND;TZID=UTC:20251218T150000
DTSTAMP:20260422T050538
CREATED:20250715T013809Z
LAST-MODIFIED:20250929T162248Z
UID:11192-1766066400-1766070000@aahpm.org
SUMMARY:Telehealth & Technology Forum Meeting
DESCRIPTION:Sorry\, but you do not have permission to view this content.
URL:https://aahpm.org/education-events-calendar/telehealth-technology-forum-meeting-6/
CATEGORIES:Community Meetings,Members Only
ATTACH;FMTTYPE=image/png:https://aahpm.org/wp-content/uploads/2024/07/Community-Meetings_Website-1.png
END:VEVENT
BEGIN:VEVENT
DTSTART;TZID=America/Chicago:20251217T130000
DTEND;TZID=America/Chicago:20251217T140000
DTSTAMP:20260422T050538
CREATED:20250715T013932Z
LAST-MODIFIED:20250929T162256Z
UID:11193-1765976400-1765980000@aahpm.org
SUMMARY:Pediatrics Council Journal Club
DESCRIPTION:Sorry\, but you do not have permission to view this content.
URL:https://aahpm.org/education-events-calendar/pediatrics-council-journal-club/
CATEGORIES:Community Meetings,Members Only
ATTACH;FMTTYPE=image/png:https://aahpm.org/wp-content/uploads/2025/07/Journal-Club.png
END:VEVENT
BEGIN:VEVENT
DTSTART;TZID=America/Chicago:20251204T150000
DTEND;TZID=America/Chicago:20251204T160000
DTSTAMP:20260422T050538
CREATED:20250818T163220Z
LAST-MODIFIED:20250929T162306Z
UID:11347-1764860400-1764864000@aahpm.org
SUMMARY:Latinx Professionals Forum Meeting
DESCRIPTION:Sorry\, but you do not have permission to view this content.
URL:https://aahpm.org/education-events-calendar/latinx-professionals-forum-meeting/
CATEGORIES:Community Meetings,Members Only
ATTACH;FMTTYPE=image/png:https://aahpm.org/wp-content/uploads/2024/07/Community-Meetings_Website-1.png
END:VEVENT
BEGIN:VEVENT
DTSTART;TZID=America/Chicago:20251120T150000
DTEND;TZID=America/Chicago:20251120T160000
DTSTAMP:20260422T050538
CREATED:20250818T161955Z
LAST-MODIFIED:20250929T162314Z
UID:11346-1763650800-1763654400@aahpm.org
SUMMARY:Richard Payne Black Professionals Forum Meeting
DESCRIPTION:Sorry\, but you do not have permission to view this content.
URL:https://aahpm.org/education-events-calendar/richard-payne-black-professionals-forum-meeting-2/
CATEGORIES:Community Meetings,Members Only
ATTACH;FMTTYPE=image/png:https://aahpm.org/wp-content/uploads/2024/07/Community-Meetings_Website-1.png
END:VEVENT
BEGIN:VEVENT
DTSTART;TZID=America/Chicago:20251120T140000
DTEND;TZID=America/Chicago:20251120T150000
DTSTAMP:20260422T050538
CREATED:20250715T012311Z
LAST-MODIFIED:20250929T162322Z
UID:11191-1763647200-1763650800@aahpm.org
SUMMARY:Telehealth & Technology Forum Meeting
DESCRIPTION:Sorry\, but you do not have permission to view this content.
URL:https://aahpm.org/education-events-calendar/telehealth-technology-forum-meeting-5/
CATEGORIES:Community Meetings,Members Only
ATTACH;FMTTYPE=image/png:https://aahpm.org/wp-content/uploads/2024/07/Community-Meetings_Website-1.png
END:VEVENT
BEGIN:VEVENT
DTSTART;TZID=America/Chicago:20251119T140000
DTEND;TZID=America/Chicago:20251119T150000
DTSTAMP:20260422T050538
CREATED:20251015T160544Z
LAST-MODIFIED:20251015T171918Z
UID:11764-1763560800-1763564400@aahpm.org
SUMMARY:Neuropalliative SIG: Invited Speaker Event
DESCRIPTION:Sorry\, but you do not have permission to view this content.
URL:https://aahpm.org/education-events-calendar/neuropalliative-sig-invited-speaker-event/
CATEGORIES:Community Meetings,Members Only
ATTACH;FMTTYPE=image/png:https://aahpm.org/wp-content/uploads/2024/09/Community-Invited-Speaker_Website-1.png
END:VEVENT
BEGIN:VEVENT
DTSTART;TZID=America/Chicago:20251117T150000
DTEND;TZID=America/Chicago:20251117T160000
DTSTAMP:20260422T050538
CREATED:20250818T161556Z
LAST-MODIFIED:20250929T162334Z
UID:11345-1763391600-1763395200@aahpm.org
SUMMARY:Substance Use Disorder and Diversion SIG Meeting
DESCRIPTION:Sorry\, but you do not have permission to view this content.
URL:https://aahpm.org/education-events-calendar/substance-use-disorder-and-diversion-sig-meeting-3/
CATEGORIES:Community Meetings,Members Only
ATTACH;FMTTYPE=image/png:https://aahpm.org/wp-content/uploads/2024/07/Community-Meetings_Website-1.png
END:VEVENT
BEGIN:VEVENT
DTSTART;TZID=America/Chicago:20251117T120000
DTEND;TZID=America/Chicago:20251117T130000
DTSTAMP:20260422T050538
CREATED:20250818T185913Z
LAST-MODIFIED:20250929T162340Z
UID:11348-1763380800-1763384400@aahpm.org
SUMMARY:Psychosocial & Mental Health SIG
DESCRIPTION:Sorry\, but you do not have permission to view this content.
URL:https://aahpm.org/education-events-calendar/psychosocial-mental-health-sig/
CATEGORIES:Community Meetings,Members Only
ATTACH;FMTTYPE=image/png:https://aahpm.org/wp-content/uploads/2024/07/Community-Meetings_Website-1.png
END:VEVENT
BEGIN:VEVENT
DTSTART;TZID=America/Chicago:20251112T140000
DTEND;TZID=America/Chicago:20251112T150000
DTSTAMP:20260422T050538
CREATED:20250929T163631Z
LAST-MODIFIED:20250929T163919Z
UID:11541-1762956000-1762959600@aahpm.org
SUMMARY:Rural SIG: Invited Speaker Event
DESCRIPTION:Sorry\, but you do not have permission to view this content.
URL:https://aahpm.org/education-events-calendar/rural-sig-invited-speaker-event/
CATEGORIES:Community Meetings,Members Only
ATTACH;FMTTYPE=image/png:https://aahpm.org/wp-content/uploads/2024/09/Community-Invited-Speaker_Website-1.png
END:VEVENT
BEGIN:VEVENT
DTSTART;TZID=America/Chicago:20251107T140000
DTEND;TZID=America/Chicago:20251107T150000
DTSTAMP:20260422T050538
CREATED:20250929T163444Z
LAST-MODIFIED:20250929T163928Z
UID:11540-1762524000-1762527600@aahpm.org
SUMMARY:Humanities & Spirituality SIG: Invited Speaker Event
DESCRIPTION:Sorry\, but you do not have permission to view this content.
URL:https://aahpm.org/education-events-calendar/humanities-spirituality-sig-invited-speaker-event/
CATEGORIES:Community Meetings,Members Only
ATTACH;FMTTYPE=image/png:https://aahpm.org/wp-content/uploads/2024/09/Community-Invited-Speaker_Website-1.png
END:VEVENT
BEGIN:VEVENT
DTSTART;TZID=America/Chicago:20251030T110000
DTEND;TZID=America/Chicago:20251030T120000
DTSTAMP:20260422T050538
CREATED:20251015T152136Z
LAST-MODIFIED:20251015T152145Z
UID:11752-1761822000-1761825600@aahpm.org
SUMMARY:Safe Use of Psychedelic-Assisted Therapies Forum: Invited Speaker Event
DESCRIPTION:Sorry\, but you do not have permission to view this content.
URL:https://aahpm.org/education-events-calendar/safe-use-of-psychedelic-assisted-therapies-forum-invited-speaker-event/
CATEGORIES:Community Meetings,Members Only
ATTACH;FMTTYPE=image/png:https://aahpm.org/wp-content/uploads/2024/09/Community-Invited-Speaker_Website-1.png
END:VEVENT
BEGIN:VEVENT
DTSTART;TZID=America/Chicago:20251022T110000
DTEND;TZID=America/Chicago:20251022T120000
DTSTAMP:20260422T050538
CREATED:20250818T155602Z
LAST-MODIFIED:20250929T162358Z
UID:11339-1761130800-1761134400@aahpm.org
SUMMARY:Program Leaders SIG Meeting
DESCRIPTION:Sorry\, but you do not have permission to view this content.
URL:https://aahpm.org/education-events-calendar/program-leaders-sig-meeting-3/
CATEGORIES:Community Meetings,Members Only
ATTACH;FMTTYPE=image/png:https://aahpm.org/wp-content/uploads/2024/07/Community-Meetings_Website-1.png
END:VEVENT
BEGIN:VEVENT
DTSTART;TZID=America/Chicago:20251020T140000
DTEND;TZID=America/Chicago:20251020T150000
DTSTAMP:20260422T050538
CREATED:20251015T151815Z
LAST-MODIFIED:20251015T151818Z
UID:11750-1760968800-1760972400@aahpm.org
SUMMARY:Ethics\, Telehealth and Wellness Community Joint Meeting
DESCRIPTION:Sorry\, but you do not have permission to view this content.
URL:https://aahpm.org/education-events-calendar/ethics-telehealth-and-wellness-community-joint-meeting/
CATEGORIES:Community Meetings,Members Only
ATTACH;FMTTYPE=image/png:https://aahpm.org/wp-content/uploads/2024/07/Community-Meetings_Website-1.png
END:VEVENT
BEGIN:VEVENT
DTSTART;TZID=America/Chicago:20251015T140000
DTEND;TZID=America/Chicago:20251015T150000
DTSTAMP:20260422T050538
CREATED:20250929T163142Z
LAST-MODIFIED:20251015T151915Z
UID:11539-1760536800-1760540400@aahpm.org
SUMMARY:Substance Use Disorder and Diversion SIG Meeting
DESCRIPTION:Sorry\, but you do not have permission to view this content.
URL:https://aahpm.org/education-events-calendar/substance-use-disorder-and-diversion-sig-meeting-4/
CATEGORIES:Community Meetings,Members Only
ATTACH;FMTTYPE=image/png:https://aahpm.org/wp-content/uploads/2024/07/Community-Meetings_Website-1.png
END:VEVENT
BEGIN:VEVENT
DTSTART;TZID=America/Chicago:20251015T130000
DTEND;TZID=America/Chicago:20251015T140000
DTSTAMP:20260422T050538
CREATED:20250715T011033Z
LAST-MODIFIED:20250929T162414Z
UID:11188-1760533200-1760536800@aahpm.org
SUMMARY:Pediatric Council Journal Club
DESCRIPTION:Sorry\, but you do not have permission to view this content.
URL:https://aahpm.org/education-events-calendar/pediatric-council-journal-club-3/
CATEGORIES:Community Meetings,Members Only
ATTACH;FMTTYPE=image/png:https://aahpm.org/wp-content/uploads/2025/07/Journal-Club.png
END:VEVENT
BEGIN:VEVENT
DTSTART;TZID=America/Chicago:20251015T110000
DTEND;TZID=America/Chicago:20251015T120000
DTSTAMP:20260422T050538
CREATED:20251015T151353Z
LAST-MODIFIED:20251015T151357Z
UID:11748-1760526000-1760529600@aahpm.org
SUMMARY:Research SIG: Invited Speaker Event
DESCRIPTION:Sorry\, but you do not have permission to view this content.
URL:https://aahpm.org/education-events-calendar/research-sig-invited-speaker-event/
CATEGORIES:Community Meetings,Members Only
ATTACH;FMTTYPE=image/png:https://aahpm.org/wp-content/uploads/2024/09/Community-Invited-Speaker_Website-1.png
END:VEVENT
BEGIN:VEVENT
DTSTART;TZID=America/Chicago:20251008T110000
DTEND;TZID=America/Chicago:20251008T120000
DTSTAMP:20260422T050538
CREATED:20250715T010552Z
LAST-MODIFIED:20251008T155704Z
UID:11186-1759921200-1759924800@aahpm.org
SUMMARY:Psychosocial and Mental Health SIG: Invited Speaker Event
DESCRIPTION:Sorry\, but you do not have permission to view this content.
URL:https://aahpm.org/education-events-calendar/psychosocial-and-mental-health-sig-invited-speaker-event/
CATEGORIES:Community Meetings,Members Only
ATTACH;FMTTYPE=image/png:https://aahpm.org/wp-content/uploads/2024/09/Community-Invited-Speaker_Website-1.png
END:VEVENT
BEGIN:VEVENT
DTSTART;TZID=America/Chicago:20250930T160000
DTEND;TZID=America/Chicago:20250930T170000
DTSTAMP:20260422T050538
CREATED:20250908T145724Z
LAST-MODIFIED:20250929T162437Z
UID:11419-1759248000-1759251600@aahpm.org
SUMMARY:Integrative Medicine SIG Meeting
DESCRIPTION:Sorry\, but you do not have permission to view this content.
URL:https://aahpm.org/education-events-calendar/integrative-medicine-sig-meeting/
CATEGORIES:Community Meetings,Members Only
ATTACH;FMTTYPE=image/png:https://aahpm.org/wp-content/uploads/2024/07/Community-Meetings_Website-1.png
END:VEVENT
BEGIN:VEVENT
DTSTART;TZID=America/Chicago:20250923T150000
DTEND;TZID=America/Chicago:20250923T160000
DTSTAMP:20260422T050538
CREATED:20250908T145601Z
LAST-MODIFIED:20250929T162500Z
UID:11418-1758639600-1758643200@aahpm.org
SUMMARY:Cancer & Cancer Treatments SIG Meeting
DESCRIPTION:Sorry\, but you do not have permission to view this content.
URL:https://aahpm.org/education-events-calendar/cancer-cancer-treatments-sig-meeting/
CATEGORIES:Community Meetings,Members Only
ATTACH;FMTTYPE=image/png:https://aahpm.org/wp-content/uploads/2024/07/Community-Meetings_Website-1.png
END:VEVENT
BEGIN:VEVENT
DTSTART;TZID=America/Chicago:20250922T150000
DTEND;TZID=America/Chicago:20250922T160000
DTSTAMP:20260422T050538
CREATED:20250818T161348Z
LAST-MODIFIED:20250929T162513Z
UID:11344-1758553200-1758556800@aahpm.org
SUMMARY:Substance Use Disorder and Diversion SIG Meeting
DESCRIPTION:Sorry\, but you do not have permission to view this content.
URL:https://aahpm.org/education-events-calendar/substance-use-disorder-and-diversion-sig-meeting-2/
CATEGORIES:Community Meetings,Members Only
ATTACH;FMTTYPE=image/png:https://aahpm.org/wp-content/uploads/2024/07/Community-Meetings_Website-1.png
END:VEVENT
BEGIN:VEVENT
DTSTART;TZID=America/Chicago:20250919T100000
DTEND;TZID=America/Chicago:20250919T110000
DTSTAMP:20260422T050538
CREATED:20250607T013102Z
LAST-MODIFIED:20250929T162521Z
UID:10943-1758276000-1758279600@aahpm.org
SUMMARY:Outpatient Palliative Care SIG Meeting
DESCRIPTION:Sorry\, but you do not have permission to view this content.
URL:https://aahpm.org/education-events-calendar/outpatient-palliative-care-sig-meeting-3/
CATEGORIES:Community Meetings,Members Only
ATTACH;FMTTYPE=image/png:https://aahpm.org/wp-content/uploads/2024/07/Community-Meetings_Website-1.png
END:VEVENT
BEGIN:VEVENT
DTSTART;TZID=America/Chicago:20250918T140000
DTEND;TZID=America/Chicago:20250918T150000
DTSTAMP:20260422T050538
CREATED:20250715T010320Z
LAST-MODIFIED:20251027T184421Z
UID:11185-1758204000-1758207600@aahpm.org
SUMMARY:Telehealth & Technology Forum Meeting
DESCRIPTION:Sorry\, but you do not have permission to view this content.
URL:https://aahpm.org/education-events-calendar/telehealth-technology-forum-meeting-2/
CATEGORIES:Community Meetings,Members Only
ATTACH;FMTTYPE=image/png:https://aahpm.org/wp-content/uploads/2024/07/Community-Meetings_Website-1.png
END:VEVENT
BEGIN:VEVENT
DTSTART;TZID=America/Chicago:20250717T150000
DTEND;TZID=America/Chicago:20250717T160000
DTSTAMP:20260422T050538
CREATED:20250715T005132Z
LAST-MODIFIED:20251027T184405Z
UID:11180-1752764400-1752768000@aahpm.org
SUMMARY:Telehealth & Technology Forum Meeting
DESCRIPTION:Sorry\, but you do not have permission to view this content.
URL:https://aahpm.org/education-events-calendar/telehealth-technology-forum-meeting/
CATEGORIES:Community Meetings,Members Only
ATTACH;FMTTYPE=image/png:https://aahpm.org/wp-content/uploads/2024/07/Community-Meetings_Website-1.png
END:VEVENT
BEGIN:VEVENT
DTSTART;TZID=America/Chicago:20250626T120000
DTEND;TZID=America/Chicago:20250626T130000
DTSTAMP:20260422T050538
CREATED:20250429T192948Z
LAST-MODIFIED:20250514T213812Z
UID:10778-1750939200-1750942800@aahpm.org
SUMMARY:SUPAT Forum: Case Discussions of Psychedelic Interventions
DESCRIPTION:Sorry\, but you do not have permission to view this content.
URL:https://aahpm.org/education-events-calendar/supat-forum-case-discussions-of-psychedelic-interventions/
CATEGORIES:Community Meetings,Members Only
ATTACH;FMTTYPE=image/png:https://aahpm.org/wp-content/uploads/2024/09/Community-Invited-Speaker_Website-1.png
END:VEVENT
BEGIN:VEVENT
DTSTART;TZID=America/Chicago:20250624T150000
DTEND;TZID=America/Chicago:20250624T160000
DTSTAMP:20260422T050538
CREATED:20250319T215224Z
LAST-MODIFIED:20250514T213825Z
UID:10490-1750777200-1750780800@aahpm.org
SUMMARY:Education SIG: Why Attention Matters and How to Maintain it Amongst Our Learners
DESCRIPTION:Sorry\, but you do not have permission to view this content.
URL:https://aahpm.org/education-events-calendar/education-sig-why-attention-matters-and-how-to-maintain-it-amongst-our-learners/
CATEGORIES:Community Meetings,Members Only
ATTACH;FMTTYPE=image/png:https://aahpm.org/wp-content/uploads/2024/09/Community-Invited-Speaker_Website-1.png
END:VEVENT
BEGIN:VEVENT
DTSTART;TZID=UTC:20250618T140000
DTEND;TZID=UTC:20250618T150000
DTSTAMP:20260422T050538
CREATED:20250514T213641Z
LAST-MODIFIED:20250520T201555Z
UID:10831-1750255200-1750258800@aahpm.org
SUMMARY:Telehealth and Technology Forum: Honoring End of Life Wishes through Artificial Intelligence
DESCRIPTION:Sorry\, but you do not have permission to view this content.
URL:https://aahpm.org/education-events-calendar/telehealth-and-technology-forum-honoring-end-of-life-wishes-through-artificial-intelligence/
CATEGORIES:Community Meetings,Members Only
ATTACH;FMTTYPE=image/png:https://aahpm.org/wp-content/uploads/2024/09/Community-Invited-Speaker_Website-1.png
END:VEVENT
BEGIN:VEVENT
DTSTART;TZID=America/Chicago:20250616T130000
DTEND;TZID=America/Chicago:20250616T140000
DTSTAMP:20260422T050538
CREATED:20250429T200513Z
LAST-MODIFIED:20250514T213914Z
UID:10795-1750078800-1750082400@aahpm.org
SUMMARY:Early Investigators’ Forum Invited Speaker
DESCRIPTION:Sorry\, but you do not have permission to view this content.
URL:https://aahpm.org/education-events-calendar/early-investigators-forum-invited-speaker/
CATEGORIES:Community Meetings,Members Only
ATTACH;FMTTYPE=image/png:https://aahpm.org/wp-content/uploads/2024/09/Community-Invited-Speaker_Website-1.png
END:VEVENT
END:VCALENDAR